BEGIN:VCALENDAR
VERSION:2.0
PRODID:-//Gades For Life - ECPv6.0.6.2//NONSGML v1.0//EN
CALSCALE:GREGORIAN
METHOD:PUBLISH
X-WR-CALNAME:Gades For Life
X-ORIGINAL-URL:https://gadesforlife.org
X-WR-CALDESC:Events for Gades For Life
REFRESH-INTERVAL;VALUE=DURATION:PT1H
X-Robots-Tag:noindex
X-PUBLISHED-TTL:PT1H
BEGIN:VTIMEZONE
TZID:America/Los_Angeles
BEGIN:DAYLIGHT
TZOFFSETFROM:-0800
TZOFFSETTO:-0700
TZNAME:PDT
DTSTART:20220313T100000
END:DAYLIGHT
BEGIN:STANDARD
TZOFFSETFROM:-0700
TZOFFSETTO:-0800
TZNAME:PST
DTSTART:20221106T090000
END:STANDARD
BEGIN:DAYLIGHT
TZOFFSETFROM:-0800
TZOFFSETTO:-0700
TZNAME:PDT
DTSTART:20230312T100000
END:DAYLIGHT
BEGIN:STANDARD
TZOFFSETFROM:-0700
TZOFFSETTO:-0800
TZNAME:PST
DTSTART:20231105T090000
END:STANDARD
END:VTIMEZONE
BEGIN:VEVENT
DTSTART;TZID=America/Los_Angeles:20220917T180000
DTEND;TZID=America/Los_Angeles:20220917T220000
DTSTAMP:20260419T221937
CREATED:20220319T111335Z
LAST-MODIFIED:20220319T111335Z
UID:2494-1663437600-1663452000@gadesforlife.org
SUMMARY:RENEGADES FOR LIFE YOUTH OUTREACH'S ART EXHIBITION 2022
DESCRIPTION:RENEGADES FOR LIFE YOUTH OUTREACH’S ART EXHIBITION 2022
URL:https://gadesforlife.org/event/renegades-for-life-youth-outreachs-art-exhibition-2022/
LOCATION:WA
ATTACH;FMTTYPE=image/png:https://gadesforlife.org/wp-content/uploads/2022/03/Art-Flyer.png
END:VEVENT
BEGIN:VEVENT
DTSTART;TZID=America/Los_Angeles:20230521T140000
DTEND;TZID=America/Los_Angeles:20230521T160000
DTSTAMP:20260419T221937
CREATED:20230418T012417Z
LAST-MODIFIED:20230418T015353Z
UID:2587-1684677600-1684684800@gadesforlife.org
SUMMARY:Pop up event
DESCRIPTION:
URL:https://gadesforlife.org/event/pop-up-event/
LOCATION:1046 S Jackson St\, 1046 S Jackson St\, SEATTLE\, WA\, 98144-0000\, United States
CATEGORIES:Charity,Non Profit
ORGANIZER;CN="Renegades%20For%20Life%20Inc":MAILTO:info@gadesforlife.org
END:VEVENT
END:VCALENDAR