BEGIN:VCALENDAR
VERSION:2.0
PRODID:-//Gades For Life - ECPv6.0.6.2//NONSGML v1.0//EN
CALSCALE:GREGORIAN
METHOD:PUBLISH
X-WR-CALNAME:Gades For Life
X-ORIGINAL-URL:https://gadesforlife.org
X-WR-CALDESC:Events for Gades For Life
REFRESH-INTERVAL;VALUE=DURATION:PT1H
X-Robots-Tag:noindex
X-PUBLISHED-TTL:PT1H
BEGIN:VTIMEZONE
TZID:America/Los_Angeles
BEGIN:DAYLIGHT
TZOFFSETFROM:-0800
TZOFFSETTO:-0700
TZNAME:PDT
DTSTART:20220313T100000
END:DAYLIGHT
BEGIN:STANDARD
TZOFFSETFROM:-0700
TZOFFSETTO:-0800
TZNAME:PST
DTSTART:20221106T090000
END:STANDARD
END:VTIMEZONE
BEGIN:VEVENT
DTSTART;TZID=America/Los_Angeles:20220327T110000
DTEND;TZID=America/Los_Angeles:20220327T170000
DTSTAMP:20260422T150300
CREATED:20220323T062705Z
LAST-MODIFIED:20220323T062705Z
UID:2511-1648378800-1648400400@gadesforlife.org
SUMMARY:Westside Grub & Chill
DESCRIPTION:What: Westside Grub & Chill \nWhen: Sunday\, March 27th\, 2022 \nWhere: North SeaTac Park \nTime: 11:00a.m. – 5:00p.m. \nThis is an event hosted by the Lowrider Community to support small businesses & food owners\, as well as bring positivity & unity to the collective as whole within our communities. \nWe are showcasing Po’ Boy & Tings and Def Chef \nHaving multiple raffles & a scavenger hunt for the kids. \n(General Directions) \nThe event will take place in the parking lot off of 20th Ave S. \nCross Streets are Des Moines Memorial Dr. S. & S. 128th St.
URL:https://gadesforlife.org/event/westside-grub-chill/
LOCATION:WA
ATTACH;FMTTYPE=image/png:https://gadesforlife.org/wp-content/uploads/2022/03/WSIDE-GRUB-N-CHILL.png
END:VEVENT
BEGIN:VEVENT
DTSTART;TZID=America/Los_Angeles:20220327T100000
DTEND;TZID=America/Los_Angeles:20220327T123000
DTSTAMP:20260422T150300
CREATED:20220322T092621Z
LAST-MODIFIED:20220322T093028Z
UID:2507-1648375200-1648384200@gadesforlife.org
SUMMARY:Egg Roll Sunday Meal Service Collaboration w/Renegades for Life Youth Outreach
DESCRIPTION:What: Sunday Meal at ChuMinh\nWhere: 1043 S Jackson Street\, in the packing lot of the corner plaza\nTime: 10a.m. -12:30p.m.\nAgenda\n\n10AM Set up \n10:30AM-12:15 Meal service provided by the restaurant and supplies \n12:15PM to 12:30-ish break down\, debrief
URL:https://gadesforlife.org/event/egg-roll-sunday-meal-service-collaboration-w-renegades-for-life-youth-outreach/
LOCATION:WA
END:VEVENT
BEGIN:VEVENT
DTSTART;TZID=America/Los_Angeles:20220323T180000
DTEND;TZID=America/Los_Angeles:20220323T193000
DTSTAMP:20260422T150300
CREATED:20220322T093503Z
LAST-MODIFIED:20220322T093503Z
UID:2509-1648058400-1648063800@gadesforlife.org
SUMMARY:All Egg Roll Meeting/Collaboration w/RFLYO
DESCRIPTION:All Egg Roll Meeting/Collaboration\n\nWhen: Tuesday\n\nWhat: General meeting\n\nWho: All Egg Roll members and Renegades for Life Staff\n\nTime: 6-7PM (occasionally 6-7:30PM)\n\nWhere: via zoom\n\nAgenda and facilitators prepped in a shared Google document.
URL:https://gadesforlife.org/event/all-egg-roll-meeting-collaboration-w-rflyo/
LOCATION:WA
END:VEVENT
BEGIN:VEVENT
DTSTART;TZID=America/Los_Angeles:20220318T140000
DTEND;TZID=America/Los_Angeles:20220318T160000
DTSTAMP:20260422T150300
CREATED:20220318T035939Z
LAST-MODIFIED:20220318T035939Z
UID:2481-1647612000-1647619200@gadesforlife.org
SUMMARY:Restoration Project
DESCRIPTION: 
URL:https://gadesforlife.org/event/restoration-project/
LOCATION:WA
END:VEVENT
END:VCALENDAR