BEGIN:VCALENDAR
VERSION:2.0
PRODID:-//Gades For Life - ECPv6.0.6.2//NONSGML v1.0//EN
CALSCALE:GREGORIAN
METHOD:PUBLISH
X-WR-CALNAME:Gades For Life
X-ORIGINAL-URL:https://gadesforlife.org
X-WR-CALDESC:Events for Gades For Life
REFRESH-INTERVAL;VALUE=DURATION:PT1H
X-Robots-Tag:noindex
X-PUBLISHED-TTL:PT1H
BEGIN:VTIMEZONE
TZID:America/Los_Angeles
BEGIN:DAYLIGHT
TZOFFSETFROM:-0800
TZOFFSETTO:-0700
TZNAME:PDT
DTSTART:20220313T100000
END:DAYLIGHT
BEGIN:STANDARD
TZOFFSETFROM:-0700
TZOFFSETTO:-0800
TZNAME:PST
DTSTART:20221106T090000
END:STANDARD
END:VTIMEZONE
BEGIN:VEVENT
DTSTART;TZID=America/Los_Angeles:20220406T090000
DTEND;TZID=America/Los_Angeles:20220408T160000
DTSTAMP:20260422T064435
CREATED:20220319T094755Z
LAST-MODIFIED:20220319T094957Z
UID:2486-1649235600-1649433600@gadesforlife.org
SUMMARY:Trauma Informed Care Secondary and Vicarious Trauma Training w/ Chevonna Gaylor\, LMFT
DESCRIPTION:What: Trauma Informed Care\, Secondary and Vicarious Trauma Training (3 Day Training) \n  \nWhen: Wednesday\, April 06\, 2022 – Friday\, April 08\, 2022 \n  \nTime: 9am-4pm \n  \nLocation: Emerald City Bible Fellowship | 7728 Rainier Ave S | Seattle\, WA | 98118 \n  \nExpert Facilitator: Chevonna Gaylor\, LMFT
URL:https://gadesforlife.org/event/trauma-informed-care-secondary-and-vicarious-trauma-training-w-chevonna-gaylor-lmft/
LOCATION:WA
END:VEVENT
BEGIN:VEVENT
DTSTART;TZID=America/Los_Angeles:20220408T153000
DTEND;TZID=America/Los_Angeles:20220408T190000
DTSTAMP:20260422T064435
CREATED:20220331T183230Z
LAST-MODIFIED:20220331T183230Z
UID:2521-1649431800-1649444400@gadesforlife.org
SUMMARY:BULLY FREE ZONE SPRING JUMP-OFF
DESCRIPTION:When: Friday\n\nWhat: BULLY FREE ZONE SPRING JUMP-OFF\n\nWho: The Y Social Impact Center & West Seattle Safety Team\n\nTime: 3:30-7:00 p.m.\n\nWhere:  Southwest Community Center\n\n\nAgenda: Food\, Music\, Support\, Resources\, Backpack Giveaways\, Bully free Cafe & Conversations
URL:https://gadesforlife.org/event/bully-free-zone-spring-jump-off/
LOCATION:WA
ATTACH;FMTTYPE=image/png:https://gadesforlife.org/wp-content/uploads/2022/03/Screenshot-184.png
END:VEVENT
END:VCALENDAR